BEGIN:VCALENDAR
PRODID:-//hacksw/handcal//NONSGML v1.0//EN
VERSION:2.0
CALSCALE:GREGORIAN
METHOD:PUBLISH
X-WR-CALNAME:BilboStack 2014
X-WR-TIMEZONE:Europe/Madrid
X-WR-CALDESC:BilboStack 2014
BEGIN:VEVENT
DTSTART:20140125T080000Z
DTEND:20140125T120000Z
DTSTAMP:20140125T080000Z
UID:02e9077a09adc43ccda896d60771c3f6@betabeers.com
CREATED:20131017T185718Z
DESCRIPTION:https://betabeers.com/event/bilbostack-2014-1315/
URL:https://betabeers.com/event/bilbostack-2014-1315/
LAST-MODIFIED:20131017T185718Z
LOCATION:Universidad de Deusto - Avda. de las Universidades, 24, Bilbao, Es
paña
SEQUENCE:0
STATUS:CONFIRMED
SUMMARY:BilboStack 2014
TRANSP:OPAQUE
END:VEVENT
END:VCALENDAR
