BEGIN:VCALENDAR
PRODID:-//hacksw/handcal//NONSGML v1.0//EN
VERSION:2.0
CALSCALE:GREGORIAN
METHOD:PUBLISH
X-WR-CALNAME:III Betabeers Bilbao
X-WR-TIMEZONE:Europe/Madrid
X-WR-CALDESC:III Betabeers Bilbao
BEGIN:VEVENT
DTSTART:20131024T180000Z
DTEND:20131024T203000Z
DTSTAMP:20131024T180000Z
UID:43e5645ed052e8f8a32914367b7b9f72@betabeers.com
CREATED:20131013T231734Z
DESCRIPTION:https://betabeers.com/event/iii-betabeers-bilbao-1304/
URL:https://betabeers.com/event/iii-betabeers-bilbao-1304/
LAST-MODIFIED:20131013T231734Z
LOCATION:Calle Nervión 3, Bilbao
SEQUENCE:0
STATUS:CONFIRMED
SUMMARY:III Betabeers Bilbao
TRANSP:OPAQUE
END:VEVENT
END:VCALENDAR
