BEGIN:VCALENDAR
PRODID:-//hacksw/handcal//NONSGML v1.0//EN
VERSION:2.0
CALSCALE:GREGORIAN
METHOD:PUBLISH
X-WR-CALNAME:Murcia GTUG
X-WR-TIMEZONE:Europe/Madrid
X-WR-CALDESC:Murcia GTUG
BEGIN:VEVENT
DTSTART:20120211T090000Z
DTEND:20120211T120000Z
DTSTAMP:20120211T090000Z
UID:fd62597d151eea0176f873e235607e65@betabeers.com
CREATED:20120106T215440Z
DESCRIPTION:https://betabeers.com/event/murcia-gtug-11-febrero-2012-13/
URL:https://betabeers.com/event/murcia-gtug-11-febrero-2012-13/
LAST-MODIFIED:20120106T215440Z
LOCATION:Ceeim. Campus Universitario de Espinardo, Nº7, Murcia, España
SEQUENCE:0
STATUS:CONFIRMED
SUMMARY:Murcia GTUG
TRANSP:OPAQUE
END:VEVENT
END:VCALENDAR
