BEGIN:VCALENDAR
PRODID:-//hacksw/handcal//NONSGML v1.0//EN
VERSION:2.0
CALSCALE:GREGORIAN
METHOD:PUBLISH
X-WR-CALNAME:GDG DevFest Sur 2013 en Córdoba
X-WR-TIMEZONE:Europe/Madrid
X-WR-CALDESC:GDG DevFest Sur 2013 en Córdoba
BEGIN:VEVENT
DTSTART:20131031T090000Z
DTEND:20131031T190000Z
DTSTAMP:20131031T090000Z
UID:f39dc859e2cc8361d972aa4ed52a2bc3@betabeers.com
CREATED:20131009T184247Z
DESCRIPTION:https://betabeers.com/event/gdg-devfest-sur-2013-cordoba-1294/
URL:https://betabeers.com/event/gdg-devfest-sur-2013-cordoba-1294/
LAST-MODIFIED:20131009T184247Z
LOCATION:- pendiente de confirmar -, Cordoba, España
SEQUENCE:0
STATUS:CONFIRMED
SUMMARY:GDG DevFest Sur 2013 en Córdoba
TRANSP:OPAQUE
END:VEVENT
END:VCALENDAR
