BEGIN:VCALENDAR
PRODID:-//hacksw/handcal//NONSGML v1.0//EN
VERSION:2.0
CALSCALE:GREGORIAN
METHOD:PUBLISH
X-WR-CALNAME:GDG DevFest Barcelona 2013
X-WR-TIMEZONE:Europe/Madrid
X-WR-CALDESC:GDG DevFest Barcelona 2013
BEGIN:VEVENT
DTSTART:20131011T073000Z
DTEND:20131011T171500Z
DTSTAMP:20131011T073000Z
UID:3ab31df06dd8b85708fb164d8ff63e4c@betabeers.com
CREATED:20131003T113824Z
DESCRIPTION:https://betabeers.com/event/gdg-devfest-barcelona-2013-1261/
URL:https://betabeers.com/event/gdg-devfest-barcelona-2013-1261/
LAST-MODIFIED:20131003T113824Z
LOCATION:Campus Nord, Carrer de Jordi Girona, 1, 08034, Barcelona, España
SEQUENCE:0
STATUS:CONFIRMED
SUMMARY:GDG DevFest Barcelona 2013
TRANSP:OPAQUE
END:VEVENT
END:VCALENDAR
