BEGIN:VCALENDAR
PRODID:-//hacksw/handcal//NONSGML v1.0//EN
VERSION:2.0
CALSCALE:GREGORIAN
METHOD:PUBLISH
X-WR-CALNAME:Taller OpenWRT
X-WR-TIMEZONE:Europe/Madrid
X-WR-CALDESC:Taller OpenWRT
BEGIN:VEVENT
DTSTART:20131015T230000Z
DTEND:20131015T230000Z
DTSTAMP:20131015T230000Z
UID:5bd27eadee8a74bfa2fa2ce9c257289e@betabeers.com
CREATED:20131002T090903Z
DESCRIPTION:https://betabeers.com/event/taller-openwrt-16-octubre-2013-1259
/
URL:https://betabeers.com/event/taller-openwrt-16-octubre-2013-1259/
LAST-MODIFIED:20131002T090903Z
LOCATION:C/ Camino de la mosquetera 41, Zaragoza, España
SEQUENCE:0
STATUS:CONFIRMED
SUMMARY:Taller OpenWRT
TRANSP:OPAQUE
END:VEVENT
END:VCALENDAR
