BEGIN:VCALENDAR
PRODID:-//hacksw/handcal//NONSGML v1.0//EN
VERSION:2.0
CALSCALE:GREGORIAN
METHOD:PUBLISH
X-WR-CALNAME:Coding Dojo - beCode
X-WR-TIMEZONE:Europe/Madrid
X-WR-CALDESC:Coding Dojo - beCode
BEGIN:VEVENT
DTSTART:20130925T173000Z
DTEND:20130925T193000Z
DTSTAMP:20130925T173000Z
UID:d1a19243d0c13ebf88cd1408da931615@betabeers.com
CREATED:20130920T144016Z
DESCRIPTION:https://betabeers.com/event/coding-dojo-becode-25-septiembre-20
13-1231/
URL:https://betabeers.com/event/coding-dojo-becode-25-septiembre-2013-1231/
LAST-MODIFIED:20130920T144016Z
LOCATION:francisco martinez, 2, Valencia, España
SEQUENCE:0
STATUS:CONFIRMED
SUMMARY:Coding Dojo - beCode
TRANSP:OPAQUE
END:VEVENT
END:VCALENDAR
