BEGIN:VCALENDAR
PRODID:-//hacksw/handcal//NONSGML v1.0//EN
VERSION:2.0
CALSCALE:GREGORIAN
METHOD:PUBLISH
X-WR-CALNAME:¿Cómo dar a conocer una Start Up?
X-WR-TIMEZONE:Europe/Madrid
X-WR-CALDESC:¿Cómo dar a conocer una Start Up?
BEGIN:VEVENT
DTSTART:20130925T090000Z
DTEND:20130925T100000Z
DTSTAMP:20130925T090000Z
UID:1f6914df9f0dd23c2d1fbae0dc901f5f@betabeers.com
CREATED:20130916T141013Z
DESCRIPTION:https://betabeers.com/event/como-dar-a-conocer-una-start-up-25-
septiembre-2013-1217/
URL:https://betabeers.com/event/como-dar-a-conocer-una-start-up-25-septiemb
re-2013-1217/
LAST-MODIFIED:20130916T141013Z
LOCATION:Calle Sant Joan de la Salle 42, Barcelona, España
SEQUENCE:0
STATUS:CONFIRMED
SUMMARY:¿Cómo dar a conocer una Start Up?
TRANSP:OPAQUE
END:VEVENT
END:VCALENDAR
