BEGIN:VCALENDAR
PRODID:-//hacksw/handcal//NONSGML v1.0//EN
VERSION:2.0
CALSCALE:GREGORIAN
METHOD:PUBLISH
X-WR-CALNAME:Jornada sobre la Nueva Ley de apoyo a los Emprendedores
X-WR-TIMEZONE:Europe/Madrid
X-WR-CALDESC:Jornada sobre la Nueva Ley de apoyo a los Emprendedores
BEGIN:VEVENT
DTSTART:20130919T090000Z
DTEND:20130919T120000Z
DTSTAMP:20130919T090000Z
UID:114fd0505e6e24e27c235bd97d542e2a@betabeers.com
CREATED:20130903T131738Z
DESCRIPTION:https://betabeers.com/event/jornada-sobre-la-nueva-ley-apoyo-a-
los-emprendedores-19-septiembre-2013-1194/
URL:https://betabeers.com/event/jornada-sobre-la-nueva-ley-apoyo-a-los-empr
endedores-19-septiembre-2013-1194/
LAST-MODIFIED:20130903T131738Z
LOCATION:Calle Sant Joan de la Salle 42, Barcelona, España
SEQUENCE:0
STATUS:CONFIRMED
SUMMARY:Jornada sobre la Nueva Ley de apoyo a los Emprendedores
TRANSP:OPAQUE
END:VEVENT
END:VCALENDAR
