BEGIN:VCALENDAR
PRODID:-//hacksw/handcal//NONSGML v1.0//EN
VERSION:2.0
CALSCALE:GREGORIAN
METHOD:PUBLISH
X-WR-CALNAME:III Cachirulo Talk: cobros a través de Internet
X-WR-TIMEZONE:Europe/Madrid
X-WR-CALDESC:III Cachirulo Talk: cobros a través de Internet
BEGIN:VEVENT
DTSTART:20120215T180000Z
DTEND:20120215T200000Z
DTSTAMP:20120215T180000Z
UID:9e40659e8574dcff5a494179bae119ef@betabeers.com
CREATED:20120214T095011Z
DESCRIPTION:https://betabeers.com/event/iii-cachirulo-talk-cobros-a-traves-
internet-15-febrero-2012-113/
URL:https://betabeers.com/event/iii-cachirulo-talk-cobros-a-traves-internet
-15-febrero-2012-113/
LAST-MODIFIED:20120214T095011Z
LOCATION:por confirmar lugar, Zaragoza, España
SEQUENCE:0
STATUS:CONFIRMED
SUMMARY:III Cachirulo Talk: cobros a través de Internet
TRANSP:OPAQUE
END:VEVENT
END:VCALENDAR
