BEGIN:VCALENDAR
PRODID:-//hacksw/handcal//NONSGML v1.0//EN
VERSION:2.0
CALSCALE:GREGORIAN
METHOD:PUBLISH
X-WR-CALNAME:Python Barcelona - Python for Raspberry PI
X-WR-TIMEZONE:Europe/Madrid
X-WR-CALDESC:Python Barcelona - Python for Raspberry PI
BEGIN:VEVENT
DTSTART:20130912T180000Z
DTEND:20130912T190000Z
DTSTAMP:20130912T180000Z
UID:fa568dc4a0a0e2df2b158cc7f4a0207f@betabeers.com
CREATED:20130706T230006Z
DESCRIPTION:https://betabeers.com/event/python-barcelona-python-for-raspber
ry-pi-1109/
URL:https://betabeers.com/event/python-barcelona-python-for-raspberry-pi-11
09/
LAST-MODIFIED:20130706T230006Z
LOCATION:c/ Dr. Aiguader, 88, Barcelona, España
SEQUENCE:0
STATUS:CONFIRMED
SUMMARY:Python Barcelona - Python for Raspberry PI
TRANSP:OPAQUE
END:VEVENT
END:VCALENDAR
