BEGIN:VCALENDAR
PRODID:-//hacksw/handcal//NONSGML v1.0//EN
VERSION:2.0
CALSCALE:GREGORIAN
METHOD:PUBLISH
X-WR-CALNAME:CafelasoDev Nº 1
X-WR-TIMEZONE:Europe/Madrid
X-WR-CALDESC:CafelasoDev Nº 1
BEGIN:VEVENT
DTSTART:20190529T180000Z
DTEND:20190529T200000Z
DTSTAMP:20190529T180000Z
UID:02de00b0ba8c7b3970035eff5cb22e75@betabeers.com
CREATED:20190520T170718Z
DESCRIPTION:https://betabeers.com/event/cafelasodev-no-1-10880/
URL:https://betabeers.com/event/cafelasodev-no-1-10880/
LAST-MODIFIED:20190520T170718Z
LOCATION:Av. Descartes, 4, 11405 Jerez de la Frontera, Cádiz, Jerez de la 
Frontera, España
SEQUENCE:0
STATUS:CONFIRMED
SUMMARY:CafelasoDev Nº 1
TRANSP:OPAQUE
END:VEVENT
END:VCALENDAR
