BEGIN:VCALENDAR
PRODID:-//hacksw/handcal//NONSGML v1.0//EN
VERSION:2.0
CALSCALE:GREGORIAN
METHOD:PUBLISH
X-WR-CALNAME:Cádiz WordPress Meetup - Empieza a vender por Internet gracias a tu web en WordPress
X-WR-TIMEZONE:Europe/Madrid
X-WR-CALDESC:Cádiz WordPress Meetup - Empieza a vender por Internet gracias a tu web en WordPress
BEGIN:VEVENT
DTSTART:20190424T180000Z
DTEND:20190424T190000Z
DTSTAMP:20190424T180000Z
UID:465eecf78f15feebdff8e5f9f23f6faf@betabeers.com
CREATED:20190421T224022Z
DESCRIPTION:https://betabeers.com/event/cadiz-wordpress-meetup-empieza-a-ve
nder-por-internet-gracias-a-tu-web-wordpress-24-abril-2019-10579/
URL:https://betabeers.com/event/cadiz-wordpress-meetup-empieza-a-vender-por
-internet-gracias-a-tu-web-wordpress-24-abril-2019-10579/
LAST-MODIFIED:20190421T224022Z
LOCATION:-, Cadiz, España
SEQUENCE:0
STATUS:CONFIRMED
SUMMARY:Cádiz WordPress Meetup - Empieza a vender por Internet gracias a t
u web en WordPress
TRANSP:OPAQUE
END:VEVENT
END:VCALENDAR
