BEGIN:VCALENDAR
PRODID:-//hacksw/handcal//NONSGML v1.0//EN
VERSION:2.0
CALSCALE:GREGORIAN
METHOD:PUBLISH
X-WR-CALNAME:Wayra Developer Day Barcelona 2012
X-WR-TIMEZONE:Europe/Madrid
X-WR-CALDESC:Wayra Developer Day Barcelona 2012
BEGIN:VEVENT
DTSTART:20120220T140000Z
DTEND:20120220T190000Z
DTSTAMP:20120220T140000Z
UID:bccb10f5b7832117e69a642be58daad5@betabeers.com
CREATED:20120209T192453Z
DESCRIPTION:https://betabeers.com/event/wayra-developer-day-barcelona-2012-
20-febrero-2012-105/
URL:https://betabeers.com/event/wayra-developer-day-barcelona-2012-20-febre
ro-2012-105/
LAST-MODIFIED:20120209T192453Z
LOCATION:Diagonal Zero Zero, Barcelona, España
SEQUENCE:0
STATUS:CONFIRMED
SUMMARY:Wayra Developer Day Barcelona 2012
TRANSP:OPAQUE
END:VEVENT
END:VCALENDAR
