BEGIN:VCALENDAR
PRODID:-//hacksw/handcal//NONSGML v1.0//EN
VERSION:2.0
CALSCALE:GREGORIAN
METHOD:PUBLISH
X-WR-CALNAME:Cádiz WordPress Meetup - Como migrar una web sin volverte loco
X-WR-TIMEZONE:Europe/Madrid
X-WR-CALDESC:Cádiz WordPress Meetup - Como migrar una web sin volverte loco
BEGIN:VEVENT
DTSTART:20190327T170000Z
DTEND:20190327T180000Z
DTSTAMP:20190327T170000Z
UID:b1a87727082bf17946de1e2c3bf1fcba@betabeers.com
CREATED:20190324T224059Z
DESCRIPTION:https://betabeers.com/event/cadiz-wordpress-meetup-como-migrar-
una-web-sin-volverte-loco-27-marzo-2019-10334/
URL:https://betabeers.com/event/cadiz-wordpress-meetup-como-migrar-una-web-
sin-volverte-loco-27-marzo-2019-10334/
LAST-MODIFIED:20190324T224059Z
LOCATION:-, Cadiz, España
SEQUENCE:0
STATUS:CONFIRMED
SUMMARY:Cádiz WordPress Meetup - Como migrar una web sin volverte loco
TRANSP:OPAQUE
END:VEVENT
END:VCALENDAR
