BEGIN:VCALENDAR
PRODID:-//hacksw/handcal//NONSGML v1.0//EN
VERSION:2.0
CALSCALE:GREGORIAN
METHOD:PUBLISH
X-WR-CALNAME:Workshop: Responsive web design
X-WR-TIMEZONE:Europe/Madrid
X-WR-CALDESC:Workshop: Responsive web design
BEGIN:VEVENT
DTSTART:20120310T140000Z
DTEND:20120310T180000Z
DTSTAMP:20120310T140000Z
UID:c53ebd49310c6fc7d5b167b8fddd7959@betabeers.com
CREATED:20120209T175038Z
DESCRIPTION:https://betabeers.com/event/workshop-responsive-web-design-10-m
arzo-2012-103/
URL:https://betabeers.com/event/workshop-responsive-web-design-10-marzo-201
2-103/
LAST-MODIFIED:20120209T175038Z
LOCATION:MOB Barcelona - Bailen, 11, Barcelona, España
SEQUENCE:0
STATUS:CONFIRMED
SUMMARY:Workshop: Responsive web design
TRANSP:OPAQUE
END:VEVENT
END:VCALENDAR
