BEGIN:VCALENDAR
PRODID:-//hacksw/handcal//NONSGML v1.0//EN
VERSION:2.0
CALSCALE:GREGORIAN
METHOD:PUBLISH
X-WR-CALNAME:WordPress Meetup Chiclana - Gutenberg. Pon un bloque en tu vida.
X-WR-TIMEZONE:Europe/Madrid
X-WR-CALDESC:WordPress Meetup Chiclana - Gutenberg. Pon un bloque en tu vida.
BEGIN:VEVENT
DTSTART:20190305T170000Z
DTEND:20190305T180000Z
DTSTAMP:20190305T170000Z
UID:032adc2409d8702ff4fcdae13a4efa7d@betabeers.com
CREATED:20190303T224753Z
DESCRIPTION:https://betabeers.com/event/wordpress-meetup-chiclana-gutenberg
-pon-un-bloque-tu-vida-5-marzo-2019-10141/
URL:https://betabeers.com/event/wordpress-meetup-chiclana-gutenberg-pon-un-
bloque-tu-vida-5-marzo-2019-10141/
LAST-MODIFIED:20190303T224753Z
LOCATION:s/n, Calle Severo Ochoa, 11130 Chiclana de la Frontera, Cádiz, Ch
iclana de la Frontera, España
SEQUENCE:0
STATUS:CONFIRMED
SUMMARY:WordPress Meetup Chiclana - Gutenberg. Pon un bloque en tu vida.
TRANSP:OPAQUE
END:VEVENT
END:VCALENDAR
