BEGIN:VCALENDAR
PRODID:-//hacksw/handcal//NONSGML v1.0//EN
VERSION:2.0
CALSCALE:GREGORIAN
METHOD:PUBLISH
X-WR-CALNAME:QuiHacking Ciudad Real - Pentesting básico (y libre): Zap, sqlmap, openVas
X-WR-TIMEZONE:Europe/Madrid
X-WR-CALDESC:QuiHacking Ciudad Real - Pentesting básico (y libre): Zap, sqlmap, openVas
BEGIN:VEVENT
DTSTART:20190110T181000Z
DTEND:20190110T191000Z
DTSTAMP:20190110T181000Z
UID:1d7583faa36b4df53f7d6e22ba1ae22f@betabeers.com
CREATED:20181230T225345Z
DESCRIPTION:https://betabeers.com/en/event/quihacking-ciudad-real-pentestin
g-basico-y-libre-zap-sqlmap-openvas-10-enero-2019-9638/
URL:https://betabeers.com/en/event/quihacking-ciudad-real-pentesting-basico
-y-libre-zap-sqlmap-openvas-10-enero-2019-9638/
LAST-MODIFIED:20181230T225345Z
LOCATION:Paseo de la Universidad, 4 , Ciudad Real, España
SEQUENCE:0
STATUS:CONFIRMED
SUMMARY:QuiHacking Ciudad Real - Pentesting básico (y libre): Zap, sqlmap,
 openVas
TRANSP:OPAQUE
END:VEVENT
END:VCALENDAR
