BEGIN:VCALENDAR
PRODID:-//hacksw/handcal//NONSGML v1.0//EN
VERSION:2.0
CALSCALE:GREGORIAN
METHOD:PUBLISH
X-WR-CALNAME:Tomelloso Tech - Presentación oficial de la asociación
X-WR-TIMEZONE:Europe/Madrid
X-WR-CALDESC:Tomelloso Tech - Presentación oficial de la asociación
BEGIN:VEVENT
DTSTART:20190119T150000Z
DTEND:20190119T160000Z
DTSTAMP:20190119T150000Z
UID:b78396cf8cf2f837294826f610521ce8@betabeers.com
CREATED:20181223T225321Z
DESCRIPTION:https://betabeers.com/en/event/tomelloso-tech-presentacion-ofic
ial-la-asociacion-19-enero-2019-9618/
URL:https://betabeers.com/en/event/tomelloso-tech-presentacion-oficial-la-a
sociacion-19-enero-2019-9618/
LAST-MODIFIED:20181223T225321Z
LOCATION:Calle Francisco Martinez Ramirez, 13700 Tomelloso, Cdad. Real, Tom
elloso, España
SEQUENCE:0
STATUS:CONFIRMED
SUMMARY:Tomelloso Tech - Presentación oficial de la asociación
TRANSP:OPAQUE
END:VEVENT
END:VCALENDAR
