BEGIN:VCALENDAR
PRODID:-//hacksw/handcal//NONSGML v1.0//EN
VERSION:2.0
CALSCALE:GREGORIAN
METHOD:PUBLISH
X-WR-CALNAME:Google Developer Group Lleida - TALLER ARCore
X-WR-TIMEZONE:Europe/Madrid
X-WR-CALDESC:Google Developer Group Lleida - TALLER ARCore
BEGIN:VEVENT
DTSTART:20181103T153000Z
DTEND:20181103T163000Z
DTSTAMP:20181103T153000Z
UID:84058d6208b5e4fdf6f839ec707762e8@betabeers.com
CREATED:20181007T224923Z
DESCRIPTION:https://betabeers.com/en/event/google-developer-group-lleida-ta
ller-arcore-9122/
URL:https://betabeers.com/en/event/google-developer-group-lleida-taller-arc
ore-9122/
LAST-MODIFIED:20181007T224923Z
LOCATION:Parc Científic de Lleida, http://www.pcital.es/localitzacio, Llei
da, España
SEQUENCE:0
STATUS:CONFIRMED
SUMMARY:Google Developer Group Lleida - TALLER ARCore
TRANSP:OPAQUE
END:VEVENT
END:VCALENDAR
