BEGIN:VCALENDAR
PRODID:-//hacksw/handcal//NONSGML v1.0//EN
VERSION:2.0
CALSCALE:GREGORIAN
METHOD:PUBLISH
X-WR-CALNAME:Te interesa esto
X-WR-TIMEZONE:Europe/Madrid
X-WR-CALDESC:Te interesa esto
BEGIN:VEVENT
DTSTART:20180913T230000Z
DTEND:20180913T230000Z
DTSTAMP:20180913T230000Z
UID:05667d7dedba969585129b855057cafe@betabeers.com
CREATED:20180921T010655Z
DESCRIPTION:https://betabeers.com/en/event/te-interesa-esto-14-septiembre-2
018-8948/
URL:https://betabeers.com/en/event/te-interesa-esto-14-septiembre-2018-8948
/
LAST-MODIFIED:20180921T010655Z
LOCATION:Madrid, Guadalajara, España
SEQUENCE:0
STATUS:CONFIRMED
SUMMARY:Te interesa esto
TRANSP:OPAQUE
END:VEVENT
END:VCALENDAR
