BEGIN:VCALENDAR
PRODID:-//hacksw/handcal//NONSGML v1.0//EN
VERSION:2.0
CALSCALE:GREGORIAN
METHOD:PUBLISH
X-WR-CALNAME:Información interesante no te pierdas esto
X-WR-TIMEZONE:Europe/Madrid
X-WR-CALDESC:Información interesante no te pierdas esto
BEGIN:VEVENT
DTSTART:20180908T044500Z
DTEND:20180908T080000Z
DTSTAMP:20180908T044500Z
UID:efd08a1f3822bbdde56bbd5e446998d9@betabeers.com
CREATED:20180921T010312Z
DESCRIPTION:https://betabeers.com/en/event/informacion-interesante-no-te-pi
erdas-esto-8-septiembre-2018-8947/
URL:https://betabeers.com/en/event/informacion-interesante-no-te-pierdas-es
to-8-septiembre-2018-8947/
LAST-MODIFIED:20180921T010312Z
LOCATION:Madrid, Guadalajara, España
SEQUENCE:0
STATUS:CONFIRMED
SUMMARY:Información interesante no te pierdas esto
TRANSP:OPAQUE
END:VEVENT
END:VCALENDAR
