BEGIN:VCALENDAR
PRODID:-//hacksw/handcal//NONSGML v1.0//EN
VERSION:2.0
CALSCALE:GREGORIAN
METHOD:PUBLISH
X-WR-CALNAME:Couchbase Barcelona Developer Day 2013
X-WR-TIMEZONE:Europe/Madrid
X-WR-CALDESC:Couchbase Barcelona Developer Day 2013
BEGIN:VEVENT
DTSTART:20130515T081500Z
DTEND:20130515T180000Z
DTSTAMP:20130515T081500Z
UID:a6ca1a9c3b08483c34faf4198d6b5491@betabeers.com
CREATED:20130423T130148Z
DESCRIPTION:https://betabeers.com/en/event/couchbase-barcelona-developer-da
y-2013-15-mayo-2013-885/
URL:https://betabeers.com/en/event/couchbase-barcelona-developer-day-2013-1
5-mayo-2013-885/
LAST-MODIFIED:20130423T130148Z
LOCATION:21 Ronda de la Universitat, Barcelona, España
SEQUENCE:0
STATUS:CONFIRMED
SUMMARY:Couchbase Barcelona Developer Day 2013
TRANSP:OPAQUE
END:VEVENT
END:VCALENDAR
