BEGIN:VCALENDAR
PRODID:-//hacksw/handcal//NONSGML v1.0//EN
VERSION:2.0
CALSCALE:GREGORIAN
METHOD:PUBLISH
X-WR-CALNAME:Talleres de aplicaciones de software libre para el colegio
X-WR-TIMEZONE:Europe/Madrid
X-WR-CALDESC:Talleres de aplicaciones de software libre para el colegio
BEGIN:VEVENT
DTSTART:20120215T060000Z
DTEND:20120229T060000Z
DTSTAMP:20120215T060000Z
UID:4165740ca02985110c82a62ad05a4736@betabeers.com
CREATED:20120203T183051Z
DESCRIPTION:https://betabeers.com/en/event/talleres-aplicaciones-software-l
ibre-el-colegio-15-febrero-2012-88/
URL:https://betabeers.com/en/event/talleres-aplicaciones-software-libre-el-
colegio-15-febrero-2012-88/
LAST-MODIFIED:20120203T183051Z
LOCATION:Facultad de Empresa y Gestión Pública de Huesca - Aula 1, RONDA 
MISERICORDIA, 5, Huesca, España
SEQUENCE:0
STATUS:CONFIRMED
SUMMARY:Talleres de aplicaciones de software libre para el colegio
TRANSP:OPAQUE
END:VEVENT
END:VCALENDAR
