BEGIN:VCALENDAR
PRODID:-//hacksw/handcal//NONSGML v1.0//EN
VERSION:2.0
CALSCALE:GREGORIAN
METHOD:PUBLISH
X-WR-CALNAME:Coding Dojo por Agile-Barcelona & Runroom
X-WR-TIMEZONE:Europe/Madrid
X-WR-CALDESC:Coding Dojo por Agile-Barcelona & Runroom
BEGIN:VEVENT
DTSTART:20130419T180000Z
DTEND:20130419T200000Z
DTSTAMP:20130419T180000Z
UID:68e353cdaced52c09cb97e9a38151ae8@betabeers.com
CREATED:20130417T131144Z
DESCRIPTION:https://betabeers.com/en/event/coding-dojo-por-agile-barcelona-
runroom-878/
URL:https://betabeers.com/en/event/coding-dojo-por-agile-barcelona-runroom-
878/
LAST-MODIFIED:20130417T131144Z
LOCATION:Milà i Fontanals, 14, Barcelona, España
SEQUENCE:0
STATUS:CONFIRMED
SUMMARY:Coding Dojo por Agile-Barcelona & Runroom
TRANSP:OPAQUE
END:VEVENT
END:VCALENDAR
