BEGIN:VCALENDAR
PRODID:-//hacksw/handcal//NONSGML v1.0//EN
VERSION:2.0
CALSCALE:GREGORIAN
METHOD:PUBLISH
X-WR-CALNAME:Tetuan Valley Alumni Meetup
X-WR-TIMEZONE:Europe/Madrid
X-WR-CALDESC:Tetuan Valley Alumni Meetup
BEGIN:VEVENT
DTSTART:20120229T180000Z
DTEND:20120229T223000Z
DTSTAMP:20120229T180000Z
UID:78859866e5cea62fb7decf0839d4035a@betabeers.com
CREATED:20120203T154830Z
DESCRIPTION:https://betabeers.com/en/event/tetuan-valley-alumni-meetup-29-f
ebrero-2012-86/
URL:https://betabeers.com/en/event/tetuan-valley-alumni-meetup-29-febrero-2
012-86/
LAST-MODIFIED:20120203T154830Z
LOCATION:Irish Rover - Avda. del Brazil 7, Madrid, España
SEQUENCE:0
STATUS:CONFIRMED
SUMMARY:Tetuan Valley Alumni Meetup
TRANSP:OPAQUE
END:VEVENT
END:VCALENDAR
