BEGIN:VCALENDAR
PRODID:-//hacksw/handcal//NONSGML v1.0//EN
VERSION:2.0
CALSCALE:GREGORIAN
METHOD:PUBLISH
X-WR-CALNAME:Megathon Windows 2013 - Logroño
X-WR-TIMEZONE:Europe/Madrid
X-WR-CALDESC:Megathon Windows 2013 - Logroño
BEGIN:VEVENT
DTSTART:20130412T160000Z
DTEND:20130414T130000Z
DTSTAMP:20130412T160000Z
UID:aaf55be41fab208f43064ec1364be6b3@betabeers.com
CREATED:20130406T095530Z
DESCRIPTION:https://betabeers.com/en/event/megathon-windows-2013-logrono-85
1/
URL:https://betabeers.com/en/event/megathon-windows-2013-logrono-851/
LAST-MODIFIED:20130406T095530Z
LOCATION:Avenida Zaragoza 21, Logrono, España
SEQUENCE:0
STATUS:CONFIRMED
SUMMARY:Megathon Windows 2013 - Logroño
TRANSP:OPAQUE
END:VEVENT
END:VCALENDAR
