BEGIN:VCALENDAR
PRODID:-//hacksw/handcal//NONSGML v1.0//EN
VERSION:2.0
CALSCALE:GREGORIAN
METHOD:PUBLISH
X-WR-CALNAME:Okuri Talks
X-WR-TIMEZONE:Europe/Madrid
X-WR-CALDESC:Okuri Talks
BEGIN:VEVENT
DTSTART:20120222T180000Z
DTEND:20120222T193000Z
DTSTAMP:20120222T180000Z
UID:3a9d421eaf2c027c0bfef511908eea31@betabeers.com
CREATED:20120203T154439Z
DESCRIPTION:https://betabeers.com/en/event/okuri-talks-22-febrero-2012-85/
URL:https://betabeers.com/en/event/okuri-talks-22-febrero-2012-85/
LAST-MODIFIED:20120203T154439Z
LOCATION:Bravo Murillo 244, (Entrance at Alonso Castrillo 1), Madrid, EspaĆ
±a
SEQUENCE:0
STATUS:CONFIRMED
SUMMARY:Okuri Talks
TRANSP:OPAQUE
END:VEVENT
END:VCALENDAR
