BEGIN:VCALENDAR
PRODID:-//hacksw/handcal//NONSGML v1.0//EN
VERSION:2.0
CALSCALE:GREGORIAN
METHOD:PUBLISH
X-WR-CALNAME:II Betabeers Bilbao
X-WR-TIMEZONE:Europe/Madrid
X-WR-CALDESC:II Betabeers Bilbao
BEGIN:VEVENT
DTSTART:20130510T170000Z
DTEND:20130510T193000Z
DTSTAMP:20130510T170000Z
UID:052158c23028e9287e0857d5df8de0e1@betabeers.com
CREATED:20130404T122929Z
DESCRIPTION:https://betabeers.com/en/event/ii-betabeers-bilbao-846/
URL:https://betabeers.com/en/event/ii-betabeers-bilbao-846/
LAST-MODIFIED:20130404T122929Z
LOCATION:de Deustu 46, Bilbao, España
SEQUENCE:0
STATUS:CONFIRMED
SUMMARY:II Betabeers Bilbao
TRANSP:OPAQUE
END:VEVENT
END:VCALENDAR
