BEGIN:VCALENDAR
PRODID:-//hacksw/handcal//NONSGML v1.0//EN
VERSION:2.0
CALSCALE:GREGORIAN
METHOD:PUBLISH
X-WR-CALNAME:PyLadies BCN - Data science for smarter cities
X-WR-TIMEZONE:Europe/Madrid
X-WR-CALDESC:PyLadies BCN - Data science for smarter cities
BEGIN:VEVENT
DTSTART:20180614T180000Z
DTEND:20180614T190000Z
DTSTAMP:20180614T180000Z
UID:d7565ffdaaa1c0a9f4523f9666a3a617@betabeers.com
CREATED:20180610T224233Z
DESCRIPTION:https://betabeers.com/en/event/pyladies-bcn-data-science-for-sm
arter-cities-14-junio-2018-8453/
URL:https://betabeers.com/en/event/pyladies-bcn-data-science-for-smarter-ci
ties-14-junio-2018-8453/
LAST-MODIFIED:20180610T224233Z
LOCATION:Carrer Viriat 47, Barcelona, España
SEQUENCE:0
STATUS:CONFIRMED
SUMMARY:PyLadies BCN - Data science for smarter cities
TRANSP:OPAQUE
END:VEVENT
END:VCALENDAR
