BEGIN:VCALENDAR
PRODID:-//hacksw/handcal//NONSGML v1.0//EN
VERSION:2.0
CALSCALE:GREGORIAN
METHOD:PUBLISH
X-WR-CALNAME:Codemotion 2013
X-WR-TIMEZONE:Europe/Madrid
X-WR-CALDESC:Codemotion 2013
BEGIN:VEVENT
DTSTART:20131018T080000Z
DTEND:20131019T200000Z
DTSTAMP:20131018T080000Z
UID:b7f1ac205c3327fd94051d6ce7ef796d@betabeers.com
CREATED:20130326T195201Z
DESCRIPTION:https://betabeers.com/en/event/codemotion-2013-808/
URL:https://betabeers.com/en/event/codemotion-2013-808/
LAST-MODIFIED:20130326T195201Z
LOCATION:Escuela Universitaria de Informática - UPM, Madrid, España
SEQUENCE:0
STATUS:CONFIRMED
SUMMARY:Codemotion 2013
TRANSP:OPAQUE
END:VEVENT
END:VCALENDAR
