BEGIN:VCALENDAR
PRODID:-//hacksw/handcal//NONSGML v1.0//EN
VERSION:2.0
CALSCALE:GREGORIAN
METHOD:PUBLISH
X-WR-CALNAME:Wayra Madrid demoDay
X-WR-TIMEZONE:Europe/Madrid
X-WR-CALDESC:Wayra Madrid demoDay
BEGIN:VEVENT
DTSTART:20130417T130000Z
DTEND:20130417T163000Z
DTSTAMP:20130417T130000Z
UID:082b2b2310d9308784d3010950b4ea3d@betabeers.com
CREATED:20130320T180215Z
DESCRIPTION:https://betabeers.com/en/event/wayra-madrid-demoday-799/
URL:https://betabeers.com/en/event/wayra-madrid-demoday-799/
LAST-MODIFIED:20130320T180215Z
LOCATION:Calle Gran Vía, 28, Madrid, España
SEQUENCE:0
STATUS:CONFIRMED
SUMMARY:Wayra Madrid demoDay
TRANSP:OPAQUE
END:VEVENT
END:VCALENDAR
