BEGIN:VCALENDAR
PRODID:-//hacksw/handcal//NONSGML v1.0//EN
VERSION:2.0
CALSCALE:GREGORIAN
METHOD:PUBLISH
X-WR-CALNAME:Megathon Windows 2013 - Alicante
X-WR-TIMEZONE:Europe/Madrid
X-WR-CALDESC:Megathon Windows 2013 - Alicante
BEGIN:VEVENT
DTSTART:20130412T160000Z
DTEND:20130414T130000Z
DTSTAMP:20130412T160000Z
UID:c5c9dbbafc191502fe241236f0303867@betabeers.com
CREATED:20130320T153421Z
DESCRIPTION:https://betabeers.com/en/event/megathon-windows-2013-alicante-7
97/
URL:https://betabeers.com/en/event/megathon-windows-2013-alicante-797/
LAST-MODIFIED:20130320T153421Z
LOCATION:C/ San Marcos, 78, Alicante, España
SEQUENCE:0
STATUS:CONFIRMED
SUMMARY:Megathon Windows 2013 - Alicante
TRANSP:OPAQUE
END:VEVENT
END:VCALENDAR
