BEGIN:VCALENDAR
PRODID:-//hacksw/handcal//NONSGML v1.0//EN
VERSION:2.0
CALSCALE:GREGORIAN
METHOD:PUBLISH
X-WR-CALNAME:Megathon Windows 2013 - Tenerife
X-WR-TIMEZONE:Europe/Madrid
X-WR-CALDESC:Megathon Windows 2013 - Tenerife
BEGIN:VEVENT
DTSTART:20130412T160000Z
DTEND:20130414T130000Z
DTSTAMP:20130412T160000Z
UID:88aac1592bc48f843cf19a1a34a054c4@betabeers.com
CREATED:20130319T154637Z
DESCRIPTION:https://betabeers.com/en/event/megathon-windows-2013-tenerife-7
92/
URL:https://betabeers.com/en/event/megathon-windows-2013-tenerife-792/
LAST-MODIFIED:20130319T154637Z
LOCATION:C/Santa Elena de Chimisay, Santa Cruz de Tenerife, España
SEQUENCE:0
STATUS:CONFIRMED
SUMMARY:Megathon Windows 2013 - Tenerife
TRANSP:OPAQUE
END:VEVENT
END:VCALENDAR
