BEGIN:VCALENDAR
PRODID:-//hacksw/handcal//NONSGML v1.0//EN
VERSION:2.0
CALSCALE:GREGORIAN
METHOD:PUBLISH
X-WR-CALNAME:Megathon Windows 2013 - Salamanca
X-WR-TIMEZONE:Europe/Madrid
X-WR-CALDESC:Megathon Windows 2013 - Salamanca
BEGIN:VEVENT
DTSTART:20130412T160000Z
DTEND:20130414T130000Z
DTSTAMP:20130412T160000Z
UID:8d2ea31861b05f76c361a75528e49c6b@betabeers.com
CREATED:20130319T154517Z
DESCRIPTION:https://betabeers.com/en/event/megathon-windows-2013-salamanca-
791/
URL:https://betabeers.com/en/event/megathon-windows-2013-salamanca-791/
LAST-MODIFIED:20130319T154517Z
LOCATION:Plaza de la Merced S/N, Salamanca, España
SEQUENCE:0
STATUS:CONFIRMED
SUMMARY:Megathon Windows 2013 - Salamanca
TRANSP:OPAQUE
END:VEVENT
END:VCALENDAR
