BEGIN:VCALENDAR
PRODID:-//hacksw/handcal//NONSGML v1.0//EN
VERSION:2.0
CALSCALE:GREGORIAN
METHOD:PUBLISH
X-WR-CALNAME:Megathon Windows 2013 - Palma de Mallorca
X-WR-TIMEZONE:Europe/Madrid
X-WR-CALDESC:Megathon Windows 2013 - Palma de Mallorca
BEGIN:VEVENT
DTSTART:20130412T160000Z
DTEND:20130414T130000Z
DTSTAMP:20130412T160000Z
UID:dc67ca1632ef5c8e7ea0418e973a27ec@betabeers.com
CREATED:20130319T154346Z
DESCRIPTION:https://betabeers.com/en/event/megathon-windows-2013-palma-mall
orca-790/
URL:https://betabeers.com/en/event/megathon-windows-2013-palma-mallorca-790
/
LAST-MODIFIED:20130319T154346Z
LOCATION:C/ Laura Bassi, ParcBit, Palma, España
SEQUENCE:0
STATUS:CONFIRMED
SUMMARY:Megathon Windows 2013 - Palma de Mallorca
TRANSP:OPAQUE
END:VEVENT
END:VCALENDAR
