BEGIN:VCALENDAR
PRODID:-//hacksw/handcal//NONSGML v1.0//EN
VERSION:2.0
CALSCALE:GREGORIAN
METHOD:PUBLISH
X-WR-CALNAME:Megathon Windows 2013 - Lleida
X-WR-TIMEZONE:Europe/Madrid
X-WR-CALDESC:Megathon Windows 2013 - Lleida
BEGIN:VEVENT
DTSTART:20130412T160000Z
DTEND:20130414T130000Z
DTSTAMP:20130412T160000Z
UID:c633c99bc774f0fff566995963c84f63@betabeers.com
CREATED:20130319T153741Z
DESCRIPTION:https://betabeers.com/en/event/megathon-windows-2013-lleida-12-
abril-2013-786/
URL:https://betabeers.com/en/event/megathon-windows-2013-lleida-12-abril-20
13-786/
LAST-MODIFIED:20130319T153741Z
LOCATION:Complex La Caparella, 97, Lleida, España
SEQUENCE:0
STATUS:CONFIRMED
SUMMARY:Megathon Windows 2013 - Lleida
TRANSP:OPAQUE
END:VEVENT
END:VCALENDAR
