BEGIN:VCALENDAR
PRODID:-//hacksw/handcal//NONSGML v1.0//EN
VERSION:2.0
CALSCALE:GREGORIAN
METHOD:PUBLISH
X-WR-CALNAME:Megathon Windows 2013 - Córdoba
X-WR-TIMEZONE:Europe/Madrid
X-WR-CALDESC:Megathon Windows 2013 - Córdoba
BEGIN:VEVENT
DTSTART:20130412T160000Z
DTEND:20130414T130000Z
DTSTAMP:20130412T160000Z
UID:97ab983d22c93c07fb083943645e0c9c@betabeers.com
CREATED:20130319T153607Z
DESCRIPTION:https://betabeers.com/en/event/megathon-windows-2013-cordoba-12
-abril-2013-785/
URL:https://betabeers.com/en/event/megathon-windows-2013-cordoba-12-abril-2
013-785/
LAST-MODIFIED:20130319T153607Z
LOCATION:C/Astrónoma Cecilia Payne, 1 14014, Cordoba, España
SEQUENCE:0
STATUS:CONFIRMED
SUMMARY:Megathon Windows 2013 - Córdoba
TRANSP:OPAQUE
END:VEVENT
END:VCALENDAR
