BEGIN:VCALENDAR
PRODID:-//hacksw/handcal//NONSGML v1.0//EN
VERSION:2.0
CALSCALE:GREGORIAN
METHOD:PUBLISH
X-WR-CALNAME:Megathon Windows 2013 - Cádiz
X-WR-TIMEZONE:Europe/Madrid
X-WR-CALDESC:Megathon Windows 2013 - Cádiz
BEGIN:VEVENT
DTSTART:20130412T160000Z
DTEND:20130414T130000Z
DTSTAMP:20130412T160000Z
UID:5d76adc1bbdbfa9f7a1b6a0b96ef9afc@betabeers.com
CREATED:20130319T153315Z
DESCRIPTION:https://betabeers.com/en/event/megathon-windows-2013-cadiz-12-a
bril-2013-784/
URL:https://betabeers.com/en/event/megathon-windows-2013-cadiz-12-abril-201
3-784/
LAST-MODIFIED:20130319T153315Z
LOCATION:C/Manantial, 13 11500 El Puerto de Santa María, Cadiz, España
SEQUENCE:0
STATUS:CONFIRMED
SUMMARY:Megathon Windows 2013 - Cádiz
TRANSP:OPAQUE
END:VEVENT
END:VCALENDAR
