BEGIN:VCALENDAR
PRODID:-//hacksw/handcal//NONSGML v1.0//EN
VERSION:2.0
CALSCALE:GREGORIAN
METHOD:PUBLISH
X-WR-CALNAME:Megathon Windows 2013 - Barcelona
X-WR-TIMEZONE:Europe/Madrid
X-WR-CALDESC:Megathon Windows 2013 - Barcelona
BEGIN:VEVENT
DTSTART:20130412T160000Z
DTEND:20130414T130000Z
DTSTAMP:20130412T160000Z
UID:42ad1e59d747c16887dff453bb644724@betabeers.com
CREATED:20130319T152853Z
DESCRIPTION:https://betabeers.com/en/event/megathon-windows-2013-barcelona-
783/
URL:https://betabeers.com/en/event/megathon-windows-2013-barcelona-783/
LAST-MODIFIED:20130319T152853Z
LOCATION:C/Pujades, 350, Planta 10, Barcelona, España
SEQUENCE:0
STATUS:CONFIRMED
SUMMARY:Megathon Windows 2013 - Barcelona
TRANSP:OPAQUE
END:VEVENT
END:VCALENDAR
