BEGIN:VCALENDAR
PRODID:-//hacksw/handcal//NONSGML v1.0//EN
VERSION:2.0
CALSCALE:GREGORIAN
METHOD:PUBLISH
X-WR-CALNAME:PyConES 2013
X-WR-TIMEZONE:Europe/Madrid
X-WR-CALDESC:PyConES 2013
BEGIN:VEVENT
DTSTART:20131122T230000Z
DTEND:20131123T230000Z
DTSTAMP:20131122T230000Z
UID:08ba4a7bfaf02c0857d063cc09769df5@betabeers.com
CREATED:20130314T141410Z
DESCRIPTION:https://betabeers.com/en/event/pycones-2013-759/
URL:https://betabeers.com/en/event/pycones-2013-759/
LAST-MODIFIED:20130314T141410Z
LOCATION:UPM, Madrid, España
SEQUENCE:0
STATUS:CONFIRMED
SUMMARY:PyConES 2013
TRANSP:OPAQUE
END:VEVENT
END:VCALENDAR
