BEGIN:VCALENDAR
PRODID:-//hacksw/handcal//NONSGML v1.0//EN
VERSION:2.0
CALSCALE:GREGORIAN
METHOD:PUBLISH
X-WR-CALNAME:MÃ¡s git - profundizando en el uso de git
X-WR-TIMEZONE:Europe/Madrid
X-WR-CALDESC:MÃ¡s git - profundizando en el uso de git
BEGIN:VEVENT
DTSTART:20130419T140000Z
DTEND:20130420T180000Z
DTSTAMP:20130419T140000Z
UID:67d2046c6b5698889b3fb4cbd9a3075b@betabeers.com
CREATED:20130312T134239Z
DESCRIPTION:https://betabeers.com/en/event/mas-git-profundizando-el-uso-git
-754/
URL:https://betabeers.com/en/event/mas-git-profundizando-el-uso-git-754/
LAST-MODIFIED:20130312T134239Z
LOCATION:Calle Comunidad Castilla - La Mancha 8, Las Rozas de Madrid, EspaÃ
±a
SEQUENCE:0
STATUS:CONFIRMED
SUMMARY:MÃ¡s git - profundizando en el uso de git
TRANSP:OPAQUE
END:VEVENT
END:VCALENDAR
