BEGIN:VCALENDAR
PRODID:-//hacksw/handcal//NONSGML v1.0//EN
VERSION:2.0
CALSCALE:GREGORIAN
METHOD:PUBLISH
X-WR-CALNAME:[Meetup] ¿Eres dev y aún te rompe la cabeza eso de Blockchain?
X-WR-TIMEZONE:Europe/Madrid
X-WR-CALDESC:[Meetup] ¿Eres dev y aún te rompe la cabeza eso de Blockchain?
BEGIN:VEVENT
DTSTART:20150406T180000Z
DTEND:20150406T203000Z
DTSTAMP:20150406T180000Z
UID:02fd78056b68c0c64a4c8dc77944b994@betabeers.com
CREATED:20180402T175823Z
DESCRIPTION:https://betabeers.com/en/event/meetup-eres-dev-aun-te-rompe-la-
cabeza-eso-blockchain-6-abril-2015-7505/
URL:https://betabeers.com/en/event/meetup-eres-dev-aun-te-rompe-la-cabeza-e
so-blockchain-6-abril-2015-7505/
LAST-MODIFIED:20180402T175823Z
LOCATION:GO Madrid - Gran Vía 39 Planta 2, Madrid, España
SEQUENCE:0
STATUS:CONFIRMED
SUMMARY:[Meetup] ¿Eres dev y aún te rompe la cabeza eso de Blockchain?
TRANSP:OPAQUE
END:VEVENT
END:VCALENDAR
