BEGIN:VCALENDAR
PRODID:-//hacksw/handcal//NONSGML v1.0//EN
VERSION:2.0
CALSCALE:GREGORIAN
METHOD:PUBLISH
X-WR-CALNAME:BarCamp Málaga 2013
X-WR-TIMEZONE:Europe/Madrid
X-WR-CALDESC:BarCamp Málaga 2013
BEGIN:VEVENT
DTSTART:20130309T080000Z
DTEND:20130310T170000Z
DTSTAMP:20130309T080000Z
UID:afb5345f617d807a308112beefad8ba9@betabeers.com
CREATED:20130304T095844Z
DESCRIPTION:https://betabeers.com/en/event/barcamp-malaga-2013-9-marzo-2013
-740/
URL:https://betabeers.com/en/event/barcamp-malaga-2013-9-marzo-2013-740/
LAST-MODIFIED:20130304T095844Z
LOCATION:Puerta del Mar 20, 4ª planta, Malaga, España
SEQUENCE:0
STATUS:CONFIRMED
SUMMARY:BarCamp Málaga 2013
TRANSP:OPAQUE
END:VEVENT
END:VCALENDAR
