BEGIN:VCALENDAR
PRODID:-//hacksw/handcal//NONSGML v1.0//EN
VERSION:2.0
CALSCALE:GREGORIAN
METHOD:PUBLISH
X-WR-CALNAME:Millenium. By Prabee: La nueva educación 3.0
X-WR-TIMEZONE:Europe/Madrid
X-WR-CALDESC:Millenium. By Prabee: La nueva educación 3.0
BEGIN:VEVENT
DTSTART:20130322T170000Z
DTEND:20130322T190000Z
DTSTAMP:20130322T170000Z
UID:5848e5d89d42d60dfa2035d211af55bb@betabeers.com
CREATED:20130303T160109Z
DESCRIPTION:https://betabeers.com/en/event/millenium-by-prabee-la-nueva-edu
cacion-30-22-marzo-2013-739/
URL:https://betabeers.com/en/event/millenium-by-prabee-la-nueva-educacion-3
0-22-marzo-2013-739/
LAST-MODIFIED:20130303T160109Z
LOCATION:C/Lago Titicaca, 10 (Madrid On Rails), Madrid, España
SEQUENCE:0
STATUS:CONFIRMED
SUMMARY:Millenium. By Prabee: La nueva educación 3.0
TRANSP:OPAQUE
END:VEVENT
END:VCALENDAR
