BEGIN:VCALENDAR
PRODID:-//hacksw/handcal//NONSGML v1.0//EN
VERSION:2.0
CALSCALE:GREGORIAN
METHOD:PUBLISH
X-WR-CALNAME:Desarrollo de Apps para Windows 8 en HTML5 y Azure - Webcast
X-WR-TIMEZONE:Europe/Madrid
X-WR-CALDESC:Desarrollo de Apps para Windows 8 en HTML5 y Azure - Webcast
BEGIN:VEVENT
DTSTART:20130304T080000Z
DTEND:20130308T160000Z
DTSTAMP:20130304T080000Z
UID:494ad82972d65e0f2f578e2118e47351@betabeers.com
CREATED:20130228T114206Z
DESCRIPTION:https://betabeers.com/en/event/desarrollo-apps-windows-8-html5-
azure-webcast-733/
URL:https://betabeers.com/en/event/desarrollo-apps-windows-8-html5-azure-we
bcast-733/
LAST-MODIFIED:20130228T114206Z
LOCATION:Webcast Online, online
SEQUENCE:0
STATUS:CONFIRMED
SUMMARY:Desarrollo de Apps para Windows 8 en HTML5 y Azure - Webcast
TRANSP:OPAQUE
END:VEVENT
END:VCALENDAR
