BEGIN:VCALENDAR
PRODID:-//hacksw/handcal//NONSGML v1.0//EN
VERSION:2.0
CALSCALE:GREGORIAN
METHOD:PUBLISH
X-WR-CALNAME:The Mêlée Side by Side
X-WR-TIMEZONE:Europe/Madrid
X-WR-CALDESC:The Mêlée Side by Side
BEGIN:VEVENT
DTSTART:20180324T090000Z
DTEND:20180324T170000Z
DTSTAMP:20180324T090000Z
UID:88ca458c11016763a9db752b15d1bfb1@betabeers.com
CREATED:20180312T143212Z
DESCRIPTION:https://betabeers.com/en/event/the-melee-side-by-side-24-marzo-
2018-7275/
URL:https://betabeers.com/en/event/the-melee-side-by-side-24-marzo-2018-727
5/
LAST-MODIFIED:20180312T143212Z
LOCATION:3 Txirrita-Maleo Biribil, Errenteria, España
SEQUENCE:0
STATUS:CONFIRMED
SUMMARY:The Mêlée Side by Side
TRANSP:OPAQUE
END:VEVENT
END:VCALENDAR
