BEGIN:VCALENDAR
PRODID:-//hacksw/handcal//NONSGML v1.0//EN
VERSION:2.0
CALSCALE:GREGORIAN
METHOD:PUBLISH
X-WR-CALNAME:Cincubator
X-WR-TIMEZONE:Europe/Madrid
X-WR-CALDESC:Cincubator
BEGIN:VEVENT
DTSTART:20120223T170000Z
DTEND:20120223T190000Z
DTSTAMP:20120223T170000Z
UID:7750fc57a5aac934fdcb6ee2ac862ddb@betabeers.com
CREATED:20120203T104303Z
DESCRIPTION:https://betabeers.com/en/event/cincubator-23-febrero-2012-72/
URL:https://betabeers.com/en/event/cincubator-23-febrero-2012-72/
LAST-MODIFIED:20120203T104303Z
LOCATION:Parque Tecnológico de Fuente Álamo, Carretera El Estrecho-Lobosi
llo km.2,5, Murcia, España
SEQUENCE:0
STATUS:CONFIRMED
SUMMARY:Cincubator
TRANSP:OPAQUE
END:VEVENT
END:VCALENDAR
