BEGIN:VCALENDAR
PRODID:-//hacksw/handcal//NONSGML v1.0//EN
VERSION:2.0
CALSCALE:GREGORIAN
METHOD:PUBLISH
X-WR-CALNAME:SEO para desarrolladores web
X-WR-TIMEZONE:Europe/Madrid
X-WR-CALDESC:SEO para desarrolladores web
BEGIN:VEVENT
DTSTART:20130226T173000Z
DTEND:20130226T190000Z
DTSTAMP:20130226T173000Z
UID:7f6a64f994a9e0243bce5266db003807@betabeers.com
CREATED:20130220T124404Z
DESCRIPTION:https://betabeers.com/en/event/seo-desarrolladores-web-26-febre
ro-2013-691/
URL:https://betabeers.com/en/event/seo-desarrolladores-web-26-febrero-2013-
691/
LAST-MODIFIED:20130220T124404Z
LOCATION:Universidad CEU San Pablo Urbanización Montepríncipe s/n, Boadil
la del Monte, España
SEQUENCE:0
STATUS:CONFIRMED
SUMMARY:SEO para desarrolladores web
TRANSP:OPAQUE
END:VEVENT
END:VCALENDAR
