BEGIN:VCALENDAR
PRODID:-//hacksw/handcal//NONSGML v1.0//EN
VERSION:2.0
CALSCALE:GREGORIAN
METHOD:PUBLISH
X-WR-CALNAME:Workshop Responsive Web Design en Madrid
X-WR-TIMEZONE:Europe/Madrid
X-WR-CALDESC:Workshop Responsive Web Design en Madrid
BEGIN:VEVENT
DTSTART:20130309T083000Z
DTEND:20130309T173000Z
DTSTAMP:20130309T083000Z
UID:644d3df2a55dfd780104bc172a8c0db6@betabeers.com
CREATED:20130214T153707Z
DESCRIPTION:https://betabeers.com/en/event/workshop-responsive-web-design-m
adrid-682/
URL:https://betabeers.com/en/event/workshop-responsive-web-design-madrid-68
2/
LAST-MODIFIED:20130214T153707Z
LOCATION:Plaza de las Cortes, Madrid, España
SEQUENCE:0
STATUS:CONFIRMED
SUMMARY:Workshop Responsive Web Design en Madrid
TRANSP:OPAQUE
END:VEVENT
END:VCALENDAR
